BEGIN:VCALENDAR
VERSION:2.0
PRODID:-//Diga Elkartea - ECPv6.15.13.1//NONSGML v1.0//EN
CALSCALE:GREGORIAN
METHOD:PUBLISH
X-WR-CALNAME:Diga Elkartea
X-ORIGINAL-URL:https://www.digaelkartea.org
X-WR-CALDESC:Eventos para Diga Elkartea
REFRESH-INTERVAL;VALUE=DURATION:PT1H
X-Robots-Tag:noindex
X-PUBLISHED-TTL:PT1H
BEGIN:VTIMEZONE
TZID:Europe/Madrid
BEGIN:DAYLIGHT
TZOFFSETFROM:+0100
TZOFFSETTO:+0200
TZNAME:CEST
DTSTART:20250330T010000
END:DAYLIGHT
BEGIN:STANDARD
TZOFFSETFROM:+0200
TZOFFSETTO:+0100
TZNAME:CET
DTSTART:20251026T010000
END:STANDARD
BEGIN:DAYLIGHT
TZOFFSETFROM:+0100
TZOFFSETTO:+0200
TZNAME:CEST
DTSTART:20260329T010000
END:DAYLIGHT
BEGIN:STANDARD
TZOFFSETFROM:+0200
TZOFFSETTO:+0100
TZNAME:CET
DTSTART:20261025T010000
END:STANDARD
BEGIN:DAYLIGHT
TZOFFSETFROM:+0100
TZOFFSETTO:+0200
TZNAME:CEST
DTSTART:20270328T010000
END:DAYLIGHT
BEGIN:STANDARD
TZOFFSETFROM:+0200
TZOFFSETTO:+0100
TZNAME:CET
DTSTART:20271031T010000
END:STANDARD
END:VTIMEZONE
BEGIN:VEVENT
DTSTART;VALUE=DATE:20260305
DTEND;VALUE=DATE:20260308
DTSTAMP:20260421T192708
CREATED:20260302T074449Z
LAST-MODIFIED:20260302T075202Z
UID:7647-1772668800-1772927999@www.digaelkartea.org
SUMMARY:Asamblea READ 2026
DESCRIPTION:Programación abierta\nEste es un año de celebración para EIDE\, ya que esta cumple 40 años\, ¿y qué mejor manera de arrancar este aniversario que acogiendo en Vitoria-Gasteiz la Asamblea General de READ (Red Española de Asociaciones de Diseño) del 5 al 7 de marzo? \nEl encuentro se celebrará en IDarte (Escuela de Arte y Superior de Diseño Pública de Euskadi)\, socia corporativa de EIDE\, un lugar con un significado especial\, ya que allí sellamos también se selló la alianza con DIGA (Asociación de Profesionales del Diseño Gráfico de Álava) en 2022. \nPara que la visita a Vitoria-Gasteiz sea completa e inolvidable\, El equipo de EIDE ha preparado un programa que mezcla formación\, networking y\, por supuesto\, un poco de disfrute de nuestra tierra. \n 
URL:https://www.digaelkartea.org/evento/asamblea-read-2026/
LOCATION:ID arte – Escuela de Diseño Pública de Euskadi\, Portal de Betoño Kalea\, 23\, Vitoria-Gasteiz\, Araba/Álava\, 01013\, Spain
CATEGORIES:EIDE
ATTACH;FMTTYPE=image/jpeg:https://www.digaelkartea.org/wp-content/uploads/2026/03/asamblea_REAS_2-1.jpg
END:VEVENT
BEGIN:VEVENT
DTSTART;TZID=Europe/Madrid:20260305T190000
DTEND;TZID=Europe/Madrid:20260305T210000
DTSTAMP:20260421T192708
CREATED:20260302T080323Z
LAST-MODIFIED:20260315T102858Z
UID:7656-1772737200-1772744400@www.digaelkartea.org
SUMMARY:Begihandi
DESCRIPTION:BIENVENIDA CREATIVA\nUn encuentro informal para recibir a quienes lleguen con antelación. Se presentarán brevemente tres proyectos —Habemus Estudio\, Teresa Jular Pérez-Alfaro e Izaskun Urkijo Alijo— en un ambiente distendido\, mientras se comparte una charla y algo de beber en Puerta Grande Berria.
URL:https://www.digaelkartea.org/evento/begihandi/
LOCATION:RESTAURANTE PUERTA GRANDE BERRIA\, C/ Pío XII\, 1\, Vitoria-Gasteiz\, Araba/Álava\, 01004\, Spain
CATEGORIES:EIDE
ATTACH;FMTTYPE=image/jpeg:https://www.digaelkartea.org/wp-content/uploads/2026/03/begihandi.jpg
END:VEVENT
BEGIN:VEVENT
DTSTART;VALUE=DATE:20260321
DTEND;VALUE=DATE:20260322
DTSTAMP:20260421T192708
CREATED:20260320T100031Z
LAST-MODIFIED:20260406T174858Z
UID:7749-1774051200-1774137599@www.digaelkartea.org
SUMMARY:POKÓN FEST 2026 – IV – [POKÓN VACILÓN]
DESCRIPTION:Vitoria-Gasteizko autoedizio eta ilustrazio topaketa independentea // Encuentro independiente de autoedición e ilustración de Vitoria-Gasteiz \n\n\n\nNOIZ / CUÁNDO\nLarunbata / Sábado martxoak 21 marzo 11:00-14:30 / 16:00-21:00 (+Pokón Antojitos Party 22:00) \nNON / DÓNDE\nAzoka / Mercado: Avenida de Estíbaliz\, 5\nPokón Antojitos Party: Bar Satélite\, Badaia 3\nVitoria-Gasteiz \nMAHAIAK / MESAS\n01/ MAITE CABALLERO @emecaballero\n02/ SRTA. ANTONIA @srta_antonia\n03/ SILENCIOSOS BIZKAIA @silenciosos_bizkaia\n04/ XIMON AGIRRE @ximonagirre\n05/ ANIA LUCERO  @rssbm.archive\n06/ MARRIMARRAZKI@marrimarrazki\n07/ TZULAN PINTA @tzulan.pinta\n08/ KARMEN ESCALERA @karmenescalera\n09/ HELENA MALVIDO  @hmalvido\n10/ BILDOTSNE @labildotsne\n11/ COLECTIVO CERDAS @colectivocerdas\n13/ NATALIA ALBÉNIZ @nalbeniz\n14/ AINARA TAVAREZ @laainalogica\n15/ ÁLEX F @alexfdibuixant\n16/ ÍÑIGO BENITO @ibenifacio\n17/ SAIOA AGINAKO  @saioaaginako\n18/ MIKEL ESCALERA @mikel_escalera\n19/ JOEL IGLESIAS @strowel_ \nORDUTEGIA / HORARIO\n11:00 – MERKATUA IREKITZEA / APERTURA MERCADO\n13:30 – MONOLOGOA / MONÓLOGO. Lander Varona\n14:30 – JATEKO ITXIERA / CIERRE COMIDA \n16:00 – MERKATUA IREKITZEA / APERTURA MERCADO\n17:00 – POKÓN TALKS. Sortzaile ezberdinek euren esperientziak partekatuko dituzte hitzaldi ultrakontzentratuan // Diferentes creadorxs compartirán sus experiencias en formato de charla ultraconcentrada\n19:00 – TONBOLA / TÓMBOLA\n21:00 – MERKATUA IXTEA / CIERRE MERCADO\n21:30 – PROZESIOA / PROCESIÓN. Prozesioa Pokona besoetan hartuta Satelite tabernaraino // Procesión con el Pokón en brazos hasta Bar Satélite @bar.satelite \n22:00 – POKÓN ANTOJITOS PARTY- Bar Satélite. Badaia Kalea\, 3 \nEGUN OSOAN ZEHAR / DURANTE TODO EL DÍA\n– Zuzeneko erretratuak / Retratos en vivo\n– Tiro al Pokón \nPOKONA ERRETZEA / LA QUEMA DEL POKÓN\nEkainaren 23an Judimendik ohiko poteoa egingo du eta ondoren San Juan sutan Pokona erreko dute / El 23 de junio se realizará el tradicional poteo por Judimendi y posterior quema del Pokón en la hoguera de San Juan.Informazio eguneratua IGen gure kontuan // Sigue información actualizada en nuestra cuenta de IG: https://www.instagram.com/colectivocerdas/
URL:https://www.digaelkartea.org/evento/pokon-fest-2026-iv-pokon-vacilon/
LOCATION:Estudio-Taller de Natalia Albeniz\, Avda. de Estíbaliz 5 bajo\, Vitoria-Gasteiz\, Álava\, 01004\, Spain
CATEGORIES:Azoka / Mercado,Evento,Festivales
ATTACH;FMTTYPE=image/png:https://www.digaelkartea.org/wp-content/uploads/2026/03/Pokon_26_IMG-Correo.png
END:VEVENT
BEGIN:VEVENT
DTSTART;VALUE=DATE:20260321
DTEND;VALUE=DATE:20260322
DTSTAMP:20260421T192708
CREATED:20260209T205325Z
LAST-MODIFIED:20260309T203924Z
UID:7117-1774051200-1774137599@www.digaelkartea.org
SUMMARY:Zesta Festa
DESCRIPTION:El objetivo de ZESTAFESTA es crear un encuentro para personas del sector creativo donde disfrutar del placer visual y ponernos cara en un mundo tan online. Está dirigido tanto a profesionales del sector\, del diseño\, la ilustración\, la dirección de arte\, la comunicación… como a personas interesadas por el mundillo visual. Veremos temas que están en el punto de mira como la sostenibilidad\, la inteligencia artificial\, el emprendimiento\, los derechos humanos… que nos replantan cómo queremos diseñar nuestro mundo. \nLas puertas del auditorio se abrirán a las 16:00 y las ponencias comenzarán a las 16:30 con nombres destacados del panorama creativo. TETA Y TETA es una asociación sin ánimo de lucro pero con ánimo de transformar la mirada sobre las mujeres a golpe de creatividad. Su fundadora María Rufilanchas también es creadora del conocido estudio creativo «molaría». RELAJA EL COCO es el estudio de diseño creativo todoterreno\, donde cada proyecto de branding\, infografía o editorial tienen algo especial. Y FUEGO CAMINA CONMIGO\, una Agencia creativa que trabaja para encontrar nuevas maneras de conectar marcas y personas. Desarrollan proyectos creativos y de comunicación con clientes que quieren liderar el nuevo paradigma. \nPor la mañana habrá un workshop impartido por Núria Vila: “Una segunda vida. Experimentando el diseño circular.” Trabajaremos con materiales provenientes de desecho y repensaremos en cómo diseñamos\, porque el diseño también puede ser una herramienta de cambio. \nPara cerrar la jornada\, celebramos el Topa! en Ttopara Café de 19:30 a 21:30\, se ofrecerá pintxopote junto a la DJ SantaClau. \nEste año ZESTAFESTA va más allá y además de la jornada del sábado\, nos hemos coordinado con la Asociación Nacional de Diseño Gráfico y Comunicación Visual para que su exposición itinerante viaje hasta nosotras. “Diseño presente. Premios ADG Laus 2025” reúne los proyectos de diseño premiados el año anterior creando así una instantánea coral del diseño de hoy en día. Tendrá lugar en Itsas Etxea Auditoriuma desde el 12 de marzo hasta el 25 de marzo. Su horario es de miércoles a domingo de 17:00 a 20:00. El día de ZESTAFESTA se abrirá con un horario especial\, de 11:00 a 13:00 y de 15:00 a 20:00.
URL:https://www.digaelkartea.org/evento/zesta-festa/
LOCATION:Itsas Etxea Auditoriuma Hondarribia\, Matxin Arzu Kalea\, 2\, Hondarribia\, Gipuzkoa\, 20280\, Spain
CATEGORIES:Festivales
ATTACH;FMTTYPE=image/png:https://www.digaelkartea.org/wp-content/uploads/2026/02/zesta_festa.png
END:VEVENT
BEGIN:VEVENT
DTSTART;VALUE=DATE:20260413
DTEND;VALUE=DATE:20260425
DTSTAMP:20260421T192708
CREATED:20260413T130619Z
LAST-MODIFIED:20260413T130619Z
UID:8209-1776038400-1777075199@www.digaelkartea.org
SUMMARY:Concurso de carteles de las Fiestas de La Blanca
DESCRIPTION:El cartel deberá ser inédito\, no haber sido premiado con anterioridad en ningún otro concurso y de autoría de la persona candidata\, estando expresamente prohibida la utilización de inteligencia artificial (IA). \nQuienes tomen parte en este concurso\, aceptan todas las condiciones que se especifican en las bases y se someten expresamente a ellas. \nLa persona ganadora asistirá a la presentación pública del cartel ganador. \nDel 13/04/2026 al 24/04/2026. \n  \nInstrucciones para presentar la documentación\n\nCada candidatura presentará un único dosier electrónico en formato PDF de un tamaño máximo de 10mb (versión digital para ver en pantalla)\, conforme al anexo I de las bases\, que deberá contener entre 3 y 5 ilustraciones o diseños\, de los cuales como mínimo 2 deberán ser carteles.\nDicho archivo será denominado mediante el esquema: DOSIER-( Poner seudónimo).pdf.\nLos carteles podrán ser de trabajos anteriores o simulaciones con una antigüedad no superior a los 3 años. El fin es poder valorar la calidad del arte final y estilo o capacidades en el trabajo de ilustración y/o diseño de la persona candidata.\nLos trabajos deberán aparecer sin firma en el dosier\, cualquier firma o marca digital que permitiese la identificación de la persona candidata descalificará a la misma automáticamente del concurso.\nAdemás\, se facilitará para uso posterior un archivo electrónico en formato pdf conforme al anexo II de las bases\, con los datos personales de la persona candidata. El jurado no tendrá acceso a la información personal de ninguna candidatura hasta darse el fallo final.\nLa denominación de este archivo deberá seguir este esquema: ANEXO II-(poner seudónimo).pdf.\nJunto con los datos personales\, declarados mediante el anexo II\, se debe cumplimentar la declaración jurada que aparece en el mismo\, aceptando las condiciones que regulan esta convocatoria\, confirmando la originalidad y autoría de los trabajos presentados en el dosier y dando consentimiento expreso para que el Ayuntamiento de Vitoria-Gasteiz trate los datos personales para la finalidad de gestionar este premio. Quien remita el anexo II sin cumplimentar la mencionada declaración jurada\, quedará fuera del concurso de forma automática.\nLas propuestas que no se remitan conforme al modelo de datos descrito en estas bases serán descalificadas del proceso.\n\n  \nEntre todas las propuestas recibidas\, un jurado profesional determinará cinco finalistas. El 15 de mayo de 2026 se comunicará a las cinco candidaturas seleccionadas que pasarán a la siguiente fase. \nEn esta segunda fase\, las cinco candidaturas seleccionadas presentarán una propuesta de cartel\, según las indicaciones del epígrafe 4.b de las bases de la convocatoria. El plazo límite de envío de la propuesta de cartel es el 1 de junio de 2026 a las 23:59 horas. \nEl 12 de junio de 2026 se comunicará a la candidatura ganadora la resolución del jurado\, quien deberá presentar el cartel ganador en un formato para imprenta y otro digital\, siempre con medidas de 50×70 cm\, manteniendo en todo caso la resolución suficiente para su reproducción por los correspondientes sistemas de imprenta. \nPresentación pública de la candidatura ganadora por parte del servicio de Cultura a partir del día 19 de junio de 2026.
URL:https://www.digaelkartea.org/evento/concurso-de-carteles-de-las-fiestas-de-la-blanca/
CATEGORIES:Convocatorias
ATTACH;FMTTYPE=image/jpeg:https://www.digaelkartea.org/wp-content/uploads/2026/04/cartel-fiestas-vitoria.jpg
END:VEVENT
BEGIN:VEVENT
DTSTART;TZID=Europe/Madrid:20260414T093000
DTEND;TZID=Europe/Madrid:20260414T150000
DTSTAMP:20260421T192708
CREATED:20260408T153253Z
LAST-MODIFIED:20260408T154218Z
UID:8009-1776159000-1776178800@www.digaelkartea.org
SUMMARY:DesignIA
DESCRIPTION:Produktuaren diseinua eta adimen artifizialaren adinean biltzarrea\nEtorri ikastera eta eztabaidatzera Diseinuaren erronkez IAren garaian \nEncuentro sobre diseño de producto en la era de la inteligencia artificial\nVen a aprender y debatir sobre los retos del Diseño en tiempos de IA \napirilaren 14a / 14 abril \nVitoria – Gasteiz\nMuseo Bibat / Fournier de Naipes \n \nIrene Aranda Barrio\nEstrategia digital y transformación impulsada por IA \nPatricia Bedoya\nCofundadora de Chubby Apps\nProduct Designer \nDiego Garcimartín Rey\nCPO\, VP of Product | Startups\, Scale-ups \nRaul Marín Calleja\nShift+R Head Teacher \nBorja Peña Granados\nSenior Product Designer \n  \nInskripzioa / Inscripción\nhttps://www.eventbrite.es/e/entradas-designia-solo-presencial-1985407462165 \ninfo\nwww.designia.eus \n 
URL:https://www.digaelkartea.org/evento/designia/
LOCATION:Museo Bibat / Fournier de Naipes\, Cuchillería 54\, Vitoria-Gasteiz\, Álava\, 01001\, Spain
CATEGORIES:Evento
ATTACH;FMTTYPE=image/jpeg:https://www.digaelkartea.org/wp-content/uploads/2026/04/designIA_imagen4-3.jpg
END:VEVENT
BEGIN:VEVENT
DTSTART;VALUE=DATE:20260416
DTEND;VALUE=DATE:20260419
DTSTAMP:20260421T192708
CREATED:20260401T070712Z
LAST-MODIFIED:20260401T071349Z
UID:7892-1776297600-1776556799@www.digaelkartea.org
SUMMARY:OFFF Barcelona
DESCRIPTION:OFFF Barcelona regresa del 16 al 18 de abril de 2026 en el Disseny Hub Barcelona\, consolidado como uno de los principales encuentros internacionales en torno al diseño\, la creatividad y la cultura digital. \nCon más de dos décadas de trayectoria\, el festival se ha convertido en un punto de referencia para profesionales del diseño gráfico\, motion\, branding\, arte digital y disciplinas afines\, reuniendo a talento internacional para compartir procesos\, metodologías y nuevas formas de entender la práctica creativa. \nDurante tres días\, OFFF ofrece un programa intensivo de conferencias\, workshops\, instalaciones y experiencias inmersivas\, generando un espacio de encuentro entre profesionales\, estudios y comunidad creativa global. \nPrograma y ponentes\nEl programa reúne en torno a 45 ponentes y más de 90 participantes entre conferencias\, workshops y actividades paralelas\, consolidando OFFF como un espacio de referencia para compartir procesos y práctica creativa contemporánea. \nEntre los participantes confirmados destacan:FutureDeluxe\, Stockholm Design Lab\, Wieden+Kennedy Amsterdam\, Uncommon\, LOS YORK\, Volvox Labs\, Moment Factory\, Silent Partners Studio\, Foster + Partners\, Reuben Wu\, Maggie West\, Nathalie Gordon\, Noah Dillon\, Valtteri\, Paloma Rincón\, Onur Senturk\, teamLab\, NotReal\, TACTYC Studio y Misato Studio. \n\nFechas: 16\, 17 y 18 de abril de 2026Lugar: Disseny Hub Barcelona
URL:https://www.digaelkartea.org/evento/offf-barcelona/
LOCATION:Disseny Hub Barcelona\, Plaça de les Glòries Catalanes\, 38\, Barcelona\, 08018\, Spain
CATEGORIES:Festivales
ATTACH;FMTTYPE=image/jpeg:https://www.digaelkartea.org/wp-content/uploads/2026/04/OFFF_2026-scaled.jpg
END:VEVENT
BEGIN:VEVENT
DTSTART;VALUE=DATE:20260417
DTEND;VALUE=DATE:20260418
DTSTAMP:20260421T192708
CREATED:20260329T193828Z
LAST-MODIFIED:20260331T201821Z
UID:7881-1776384000-1776470399@www.digaelkartea.org
SUMMARY:Llamada a proyecto: cartel de las Fiestas Patronales de Amurrio 2026
DESCRIPTION:El Ayuntamiento de Amurrio lanza una llamada a profesionales del diseño gráfico y la creación artística para el desarrollo del cartel oficial de sus Fiestas Patronales 2026. \nLa convocatoria se plantea como un proceso en tres fases\, comenzando con la selección de candidaturas a partir de portfolio. Las personas seleccionadas como finalistas desarrollarán una propuesta de cartel\, que será evaluada por un comité experto en base a criterios de calidad conceptual\, creatividad\, funcionalidad y valores sociales. \nEl proyecto ganador recibirá el encargo del cartel final\, que será la imagen oficial de las fiestas y se adaptará a distintos soportes de comunicación. \nFases de la convocatoria\nFase 1 – Inscripción (portfolio)Del 30 de marzo al 17 de abril de 2026Presentación de candidatura mediante portfolio (máx. 5 proyectos)\, CV y carta de motivación. \nFase 2 – PreselecciónSelección de 3 finalistas que desarrollarán una propuesta de cartel.Las personas seleccionadas dispondrán de 15 días para presentar un boceto que desarrolle la imagen de las fiestas 2026. \nFase 3 – Selección finalUn jurado especializado seleccionará la propuesta ganadora\, que se convertirá en la imagen oficial de las fiestas. \nHonorarios\n\n3 finalistas: 300 € en concepto de honorarios por el desarrollo de la propuesta\nProyecto ganador: 1.100 € en total (incluidos los 300 € de la fase anterior)
URL:https://www.digaelkartea.org/evento/llamada-a-proyecto-cartel-de-las-fiestas-patronales-de-amurrio-2026/
CATEGORIES:Convocatorias
ATTACH;FMTTYPE=image/jpeg:https://www.digaelkartea.org/wp-content/uploads/2026/03/Amurrio-scaled.jpg
END:VEVENT
BEGIN:VEVENT
DTSTART;VALUE=DATE:20260507
DTEND;VALUE=DATE:20260509
DTSTAMP:20260421T192708
CREATED:20260411T155724Z
LAST-MODIFIED:20260411T155724Z
UID:8206-1778112000-1778284799@www.digaelkartea.org
SUMMARY:Aperitivo: Spanish Design in Conversation - WDC Frankfurt RheinMain 2026
DESCRIPTION:El Ministerio de Cultura\, la Fundació del Disseny de la Comunitat Valenciana y la Red Española de Asociaciones de Diseño (READ) presentan «Aperitivo: Spanish Design in Conversation»\, una iniciativa que tendrá lugar los días 7 y 8 de mayo en World Design Capital Frankfurt RheinMain 2026. \nVer noticia completa en la web de READ. \nAccede aquí a más info sobre la World Design Capital Frankfurt RheinMain 2026.
URL:https://www.digaelkartea.org/evento/aperitivo-spanish-design-in-conversation-wdc-frankfurt-rheinmain-2026/
ATTACH;FMTTYPE=image/jpeg:https://www.digaelkartea.org/wp-content/uploads/2026/04/cartel-aperitivo.jpg
END:VEVENT
BEGIN:VEVENT
DTSTART;VALUE=DATE:20260508
DTEND;VALUE=DATE:20260510
DTSTAMP:20260421T192708
CREATED:20260401T072551Z
LAST-MODIFIED:20260401T072551Z
UID:7904-1778198400-1778371199@www.digaelkartea.org
SUMMARY:Brandays Madrid 2026 (Blanc!)
DESCRIPTION:Brandays Madrid 2026 (Blanc!)\nBrandays! Madrid vuelve los días 8 y 9 de mayo de 2026 como la extensión del universo Blanc! centrada específicamente en branding y estrategia de marca. \nEl evento se plantea como un espacio dirigido a profesionales que trabajan en identidad\, comunicación y diseño estratégico\, poniendo el foco en el pensamiento crítico y en los procesos detrás de la construcción de marca. Frente a dinámicas más inmediatas o superficiales\, Brandays reivindica el valor de la pausa\, la reflexión y el trabajo con intención dentro de la práctica creativa. \nDurante dos jornadas\, el festival propone un programa de conferencias\, workshops y masterclasses en torno al branding\, la dirección de arte\, el storytelling o el diseño digital\, generando un entorno de aprendizaje y conexión entre profesionales del sector. \nPrograma y ponentes\nEl programa reúne a profesionales y estudios vinculados al branding y la estrategia de marca\, abordando la disciplina desde distintas perspectivas. \nEntre los participantes destacan:Natalia Cazcarra – HER\, Belén Torregrosa\, Coko Gabriel (Not Found™)\, Mechi Ginzo. NotReal\, Tavo Studio\, Supperstudio\, Interactius\, Matias Gonzalez. Leidox\, Mendesaltaren\, Comuniza\, Fernando Beltrán\, Berta Mateos Romero\, Francesco Maria Furno\, Juan Francisco (Jonás) Carró\, Mariana Hernandez Delfino\, Carla González + Mentes Utópicas\, Alejandro Masferrer. \n  \nFechas: 8 y 9 de mayo de 2026Lugar: La Nave\, Madrid
URL:https://www.digaelkartea.org/evento/brandays-madrid-2026-blanc/
LOCATION:La Nave\, C. Cifuentes\, 5\,\, Madrid\, 28021\, Spain
CATEGORIES:Festivales
ATTACH;FMTTYPE=image/jpeg:https://www.digaelkartea.org/wp-content/uploads/2026/04/Brandays_2026-scaled.jpg
END:VEVENT
BEGIN:VEVENT
DTSTART;VALUE=DATE:20260515
DTEND;VALUE=DATE:20260517
DTSTAMP:20260421T192708
CREATED:20260326T180034Z
LAST-MODIFIED:20260406T175542Z
UID:7107-1778803200-1778975999@www.digaelkartea.org
SUMMARY:Serifalaris 2026
DESCRIPTION:La duodécima edición del festival de diseño y cultura visual Serifalaris se celebrará los días 15 y 16 de mayo de 2026 bajo el título ‘El Mambo’. Como es habitual\, el evento tendrá lugar en el centro de cultura Muxikebarri\, en Getxo.Este mítico festival de diseño gráfico y cultura visual se celebra en Getxo (Bizkaia) desde 2012\, y está organizado por los estudios Maria Goñi y Freskue. \nEs un punto de encuentro anual que reúne a profesionales del sector para compartir conocimientos\, ofrecer talleres y conferencias\, enfocándose en la creatividad y la comunicación.Combina profesionalismo con un ambiente cercano\, incluyendo momentos de networking como cafés y charlas.Como dice el equipo de Serifalaris:\n«Creamos experiencias\, diseñamos formaciones en torno al diseño y la creatividad y cada dos años organizamos el festival Serifalaris en Getxo. Nuestro empeño es idear propuestas amables\, cómodas y rigurosas a la vez. Lugares donde da gusto estar\, tanto para quien sube al escenario como para quien se sienta en la última fila.» \nYa tenéis las entradas disponibles a través de su sitio oficial y Entradium.
URL:https://www.digaelkartea.org/evento/serifalaris/
LOCATION:Muxikebarri\, Avenida Basagoiti\, 77\, Algorta\, Bizkaia\, 48991\, Spain
CATEGORIES:Festivales
ATTACH;FMTTYPE=image/jpeg:https://www.digaelkartea.org/wp-content/uploads/2026/02/Serifalaris_El-Mambo.jpg
END:VEVENT
BEGIN:VEVENT
DTSTART;VALUE=DATE:20260606
DTEND;VALUE=DATE:20260607
DTSTAMP:20260421T192708
CREATED:20260325T180013Z
LAST-MODIFIED:20260413T185613Z
UID:7852-1780704000-1780790399@www.digaelkartea.org
SUMMARY:Creativity Is Female 2026: 'La maratón'
DESCRIPTION:Un espacio para disfrutar\, compartir y visibilizar la creatividad femenina. \nEste verano vuelve a Vitoria-Gasteiz el Creativity Is Female Fest\, el festival que pone el foco en el papel de las mujeres dentro del sector creativo. La iniciativa\, creada por el estudio AVOCADO y organizada por DIGA Elkartea\, celebrará su segunda edición el próximo 6 de junio. \nEl festival aborda cuestiones clave como la brecha salarial\, la falta de referentes femeninos\, las dificultades de acceso a puestos de dirección o las desigualdades estructurales que atraviesan el sector creativo\, generando un espacio de reflexión y encuentro. \nDesde CIFest se busca dar visibilidad a proyectos creativos liderados por mujeres\, poniendo en valor tanto los procesos como las trayectorias profesionales. \nPrograma\nLa jornada se estructura en dos bloques\, combinando formación práctica y contenidos inspiracionales: \nMañana — Workshops y sesiones prácticas \n\nMarina SalazarTaller de collage reivindicativo\nMaitena SalinasMentoría en liderazgo y comunicación\nFEMIASGeneración de imágenes feministas con IA\n\nTarde — Conferencias y azoka \n\nMarina Salazar (@noquedatinte)\nAutoenfoque (@autoenfoque) — ¡Diseña pa la peña!Podcast en directo con Mina Barrio (@minabarrio)\nVerónica Fuerte (@heystudio)\n\nDurante la tarde también tendrá lugar la azoka\, un espacio de encuentro donde conocer proyectos\, iniciativas y agentes creativos del entorno. \nEntradas\n👉 Venta anticipada disponible a precio especial \nFecha: 6 de junio de 2026Lugar: Vitoria-Gasteiz (Palacio de Villasuso) \nPatrocinan:  \n\nDepartamento de Promoción Económica\, Empleo\, Comercio y Turismo de Vitoria-Gasteiz\nDepartamento de Desarrollo Económico e Innovación de la Diputación Foral de Álava \nFundación Vital Fundazioa\nLaboral Kutxa\n\nColaboran:  \n\nEIDE\nIDarte
URL:https://www.digaelkartea.org/evento/creativity-is-female/
LOCATION:Palacio de Villa Suso\, Pl. del Matxete\, 1\, Vitoria-Gasteiz\, Álava\, 01001\, Spain
CATEGORIES:Azoka / Mercado,DIGA,EIDE,Evento,Festivales,Workshops/Talleres
ATTACH;FMTTYPE=image/jpeg:https://www.digaelkartea.org/wp-content/uploads/2026/03/Creativity_2026-scaled.jpg
ORGANIZER;CN="DIGA Elkartea":MAILTO:komunika@digaelkartea.org
END:VEVENT
BEGIN:VEVENT
DTSTART;VALUE=DATE:20261017
DTEND;VALUE=DATE:20261028
DTSTAMP:20260421T192708
CREATED:20260324T180018Z
LAST-MODIFIED:20260406T175443Z
UID:7119-1792195200-1793145599@www.digaelkartea.org
SUMMARY:Dutch Design Week
DESCRIPTION:La Dutch Design Week 2026 (DDW26) se celebrará del 17 al 25 de octubre en Eindhoven\, Países Bajos. Consolidado como el evento de diseño más grande del norte de Europa\, reunirá a más de 2\,500 diseñadores en aproximadamente 100 ubicaciones por toda la ciudad. \n\n\nInformación Clave para Visitantes\n\nFechas y Horarios: Del sábado 17 al domingo 25 de octubre de 2026. La mayoría de las sedes abren diariamente de 11:00 a 18:00.\nEntradas: El acceso a muchas sedes principales requiere una pulsera DDW\, que se obtiene canjeando una entrada.\n\nPrecios estimados: Las entradas suelen rondar los 24.50€ – 29.50€ para adultos (venta online) y 5.00€1 – 17.50€ para estudiantes.\nGratuidad: Los niños de hasta 11 años entran gratis.\n\n\nUbicaciones Principales: Los «hotspots» de diseño incluyen Strijp-S (Klokgebouw\, Microlab)\, Sectie-C\, el Van Abbemuseum y el Next Nature Museum (Evoluon). \n\n\nLo más destacado de DDW26 \n\nGrand Projects: Esta edición contará con intervenciones espaciales a gran escala en plazas públicas de Eindhoven\, como el Umbra Pavilion (energía solar integrada) y el Water Basin Totem (reflexión sobre el plástico).\nMisiones de Diseño: El programa se estructura en torno a cinco misiones sociales clave:\n\nThriving Planet: Diseño que apoya la naturaleza y el clima.\nLiving Environment: Innovación en vivienda\, movilidad y espacio público.\nHealth & Wellbeing: Mejora estructural de la calidad de vida.\nEqual Society: Proyectos para una sociedad más inclusiva y segura.\nDigital Futures: Exploración del mundo digital del mañana.\n\n\nDesign Academy Eindhoven: La exposición de graduación de esta academia es tradicionalmente uno de los puntos más visitados y vanguardistas del festival.
URL:https://www.digaelkartea.org/evento/dutch-design-week/
CATEGORIES:Festivales
ATTACH;FMTTYPE=image/png:https://www.digaelkartea.org/wp-content/uploads/2026/02/ddw_logo.png
END:VEVENT
BEGIN:VEVENT
DTSTART;VALUE=DATE:20261022
DTEND;VALUE=DATE:20261025
DTSTAMP:20260421T192708
CREATED:20260408T084812Z
LAST-MODIFIED:20260408T084901Z
UID:7967-1792627200-1792886399@www.digaelkartea.org
SUMMARY:Irudika
DESCRIPTION:Irudika es un encuentro profesional internacional de ilustración que convierte al Museo Artium en el epicentro del sector. Cada edición cuenta con tres países invitados y una amplia red de agentes internacionales\, dividiendo sus jornadas en tres ejes: ilustración\, mundo editorial y sectores paralelos. \nJueves | Sectores Paralelos: Una jornada de apertura diseñada como una primera toma de contacto con el mundo creativo. Aquí se dan cita profesionales de disciplinas afines a la ilustración\, como por ejemplo\, la música\, fotografía\, vídeo\, tatuaje\, bordado\, diseño\, el propio proceso creativo\, etc. Es el día perfecto para mentes inquietas y cuenta con la opción de adquirir una entrada diaria. \nViernes y Sábado | Los países invitados exponen su trabajo. Ilustradores\, editoriales\, festivales y demás agentes.\nAdemás\, los asistentes pueden participar en talleres especializados y concertar citas profesionales con agentes del sector. \nhttps://www.instagram.com/irudika_eus/
URL:https://www.digaelkartea.org/evento/irudika/
LOCATION:Artium Museoa\, Francia Kalea\, 24\, 01002 Vitoria-Gasteiz\, Araba\, Vitoria-Gasteiz\, Álava\, 01002\, Spain
CATEGORIES:Festivales,Workshops/Talleres
ATTACH;FMTTYPE=image/jpeg:https://www.digaelkartea.org/wp-content/uploads/2026/04/irudika.jpg
END:VEVENT
END:VCALENDAR