BEGIN:VCALENDAR
VERSION:2.0
PRODID:-//Diga Elkartea - ECPv6.15.13.1//NONSGML v1.0//EN
CALSCALE:GREGORIAN
METHOD:PUBLISH
X-ORIGINAL-URL:https://www.digaelkartea.org
X-WR-CALDESC:Eventos para Diga Elkartea
REFRESH-INTERVAL;VALUE=DURATION:PT1H
X-Robots-Tag:noindex
X-PUBLISHED-TTL:PT1H
BEGIN:VTIMEZONE
TZID:Europe/Madrid
BEGIN:DAYLIGHT
TZOFFSETFROM:+0100
TZOFFSETTO:+0200
TZNAME:CEST
DTSTART:20250330T010000
END:DAYLIGHT
BEGIN:STANDARD
TZOFFSETFROM:+0200
TZOFFSETTO:+0100
TZNAME:CET
DTSTART:20251026T010000
END:STANDARD
BEGIN:DAYLIGHT
TZOFFSETFROM:+0100
TZOFFSETTO:+0200
TZNAME:CEST
DTSTART:20260329T010000
END:DAYLIGHT
BEGIN:STANDARD
TZOFFSETFROM:+0200
TZOFFSETTO:+0100
TZNAME:CET
DTSTART:20261025T010000
END:STANDARD
BEGIN:DAYLIGHT
TZOFFSETFROM:+0100
TZOFFSETTO:+0200
TZNAME:CEST
DTSTART:20270328T010000
END:DAYLIGHT
BEGIN:STANDARD
TZOFFSETFROM:+0200
TZOFFSETTO:+0100
TZNAME:CET
DTSTART:20271031T010000
END:STANDARD
END:VTIMEZONE
BEGIN:VEVENT
DTSTART;VALUE=DATE:20260606
DTEND;VALUE=DATE:20260607
DTSTAMP:20260421T210717
CREATED:20260325T180013Z
LAST-MODIFIED:20260413T185613Z
UID:7852-1780704000-1780790399@www.digaelkartea.org
SUMMARY:Creativity Is Female 2026: 'La maratón'
DESCRIPTION:Un espacio para disfrutar\, compartir y visibilizar la creatividad femenina. \nEste verano vuelve a Vitoria-Gasteiz el Creativity Is Female Fest\, el festival que pone el foco en el papel de las mujeres dentro del sector creativo. La iniciativa\, creada por el estudio AVOCADO y organizada por DIGA Elkartea\, celebrará su segunda edición el próximo 6 de junio. \nEl festival aborda cuestiones clave como la brecha salarial\, la falta de referentes femeninos\, las dificultades de acceso a puestos de dirección o las desigualdades estructurales que atraviesan el sector creativo\, generando un espacio de reflexión y encuentro. \nDesde CIFest se busca dar visibilidad a proyectos creativos liderados por mujeres\, poniendo en valor tanto los procesos como las trayectorias profesionales. \nPrograma\nLa jornada se estructura en dos bloques\, combinando formación práctica y contenidos inspiracionales: \nMañana — Workshops y sesiones prácticas \n\nMarina SalazarTaller de collage reivindicativo\nMaitena SalinasMentoría en liderazgo y comunicación\nFEMIASGeneración de imágenes feministas con IA\n\nTarde — Conferencias y azoka \n\nMarina Salazar (@noquedatinte)\nAutoenfoque (@autoenfoque) — ¡Diseña pa la peña!Podcast en directo con Mina Barrio (@minabarrio)\nVerónica Fuerte (@heystudio)\n\nDurante la tarde también tendrá lugar la azoka\, un espacio de encuentro donde conocer proyectos\, iniciativas y agentes creativos del entorno. \nEntradas\n👉 Venta anticipada disponible a precio especial \nFecha: 6 de junio de 2026Lugar: Vitoria-Gasteiz (Palacio de Villasuso) \nPatrocinan:  \n\nDepartamento de Promoción Económica\, Empleo\, Comercio y Turismo de Vitoria-Gasteiz\nDepartamento de Desarrollo Económico e Innovación de la Diputación Foral de Álava \nFundación Vital Fundazioa\nLaboral Kutxa\n\nColaboran:  \n\nEIDE\nIDarte
URL:https://www.digaelkartea.org/evento/creativity-is-female/
LOCATION:Palacio de Villa Suso\, Pl. del Matxete\, 1\, Vitoria-Gasteiz\, Álava\, 01001\, Spain
CATEGORIES:Azoka / Mercado,DIGA,EIDE,Evento,Festivales,Workshops/Talleres
ATTACH;FMTTYPE=image/jpeg:https://www.digaelkartea.org/wp-content/uploads/2026/03/Creativity_2026-scaled.jpg
ORGANIZER;CN="DIGA Elkartea":MAILTO:komunika@digaelkartea.org
END:VEVENT
BEGIN:VEVENT
DTSTART;VALUE=DATE:20261017
DTEND;VALUE=DATE:20261028
DTSTAMP:20260421T210717
CREATED:20260324T180018Z
LAST-MODIFIED:20260406T175443Z
UID:7119-1792195200-1793145599@www.digaelkartea.org
SUMMARY:Dutch Design Week
DESCRIPTION:La Dutch Design Week 2026 (DDW26) se celebrará del 17 al 25 de octubre en Eindhoven\, Países Bajos. Consolidado como el evento de diseño más grande del norte de Europa\, reunirá a más de 2\,500 diseñadores en aproximadamente 100 ubicaciones por toda la ciudad. \n\n\nInformación Clave para Visitantes\n\nFechas y Horarios: Del sábado 17 al domingo 25 de octubre de 2026. La mayoría de las sedes abren diariamente de 11:00 a 18:00.\nEntradas: El acceso a muchas sedes principales requiere una pulsera DDW\, que se obtiene canjeando una entrada.\n\nPrecios estimados: Las entradas suelen rondar los 24.50€ – 29.50€ para adultos (venta online) y 5.00€1 – 17.50€ para estudiantes.\nGratuidad: Los niños de hasta 11 años entran gratis.\n\n\nUbicaciones Principales: Los «hotspots» de diseño incluyen Strijp-S (Klokgebouw\, Microlab)\, Sectie-C\, el Van Abbemuseum y el Next Nature Museum (Evoluon). \n\n\nLo más destacado de DDW26 \n\nGrand Projects: Esta edición contará con intervenciones espaciales a gran escala en plazas públicas de Eindhoven\, como el Umbra Pavilion (energía solar integrada) y el Water Basin Totem (reflexión sobre el plástico).\nMisiones de Diseño: El programa se estructura en torno a cinco misiones sociales clave:\n\nThriving Planet: Diseño que apoya la naturaleza y el clima.\nLiving Environment: Innovación en vivienda\, movilidad y espacio público.\nHealth & Wellbeing: Mejora estructural de la calidad de vida.\nEqual Society: Proyectos para una sociedad más inclusiva y segura.\nDigital Futures: Exploración del mundo digital del mañana.\n\n\nDesign Academy Eindhoven: La exposición de graduación de esta academia es tradicionalmente uno de los puntos más visitados y vanguardistas del festival.
URL:https://www.digaelkartea.org/evento/dutch-design-week/
CATEGORIES:Festivales
ATTACH;FMTTYPE=image/png:https://www.digaelkartea.org/wp-content/uploads/2026/02/ddw_logo.png
END:VEVENT
BEGIN:VEVENT
DTSTART;VALUE=DATE:20261022
DTEND;VALUE=DATE:20261025
DTSTAMP:20260421T210717
CREATED:20260408T084812Z
LAST-MODIFIED:20260408T084901Z
UID:7967-1792627200-1792886399@www.digaelkartea.org
SUMMARY:Irudika
DESCRIPTION:Irudika es un encuentro profesional internacional de ilustración que convierte al Museo Artium en el epicentro del sector. Cada edición cuenta con tres países invitados y una amplia red de agentes internacionales\, dividiendo sus jornadas en tres ejes: ilustración\, mundo editorial y sectores paralelos. \nJueves | Sectores Paralelos: Una jornada de apertura diseñada como una primera toma de contacto con el mundo creativo. Aquí se dan cita profesionales de disciplinas afines a la ilustración\, como por ejemplo\, la música\, fotografía\, vídeo\, tatuaje\, bordado\, diseño\, el propio proceso creativo\, etc. Es el día perfecto para mentes inquietas y cuenta con la opción de adquirir una entrada diaria. \nViernes y Sábado | Los países invitados exponen su trabajo. Ilustradores\, editoriales\, festivales y demás agentes.\nAdemás\, los asistentes pueden participar en talleres especializados y concertar citas profesionales con agentes del sector. \nhttps://www.instagram.com/irudika_eus/
URL:https://www.digaelkartea.org/evento/irudika/
LOCATION:Artium Museoa\, Francia Kalea\, 24\, 01002 Vitoria-Gasteiz\, Araba\, Vitoria-Gasteiz\, Álava\, 01002\, Spain
CATEGORIES:Festivales,Workshops/Talleres
ATTACH;FMTTYPE=image/jpeg:https://www.digaelkartea.org/wp-content/uploads/2026/04/irudika.jpg
END:VEVENT
END:VCALENDAR