BEGIN:VCALENDAR
VERSION:2.0
PRODID:-//Diga Elkartea - ECPv6.15.13.1//NONSGML v1.0//EN
CALSCALE:GREGORIAN
METHOD:PUBLISH
X-ORIGINAL-URL:https://www.digaelkartea.org
X-WR-CALDESC:Eventos para Diga Elkartea
REFRESH-INTERVAL;VALUE=DURATION:PT1H
X-Robots-Tag:noindex
X-PUBLISHED-TTL:PT1H
BEGIN:VTIMEZONE
TZID:Europe/Madrid
BEGIN:DAYLIGHT
TZOFFSETFROM:+0100
TZOFFSETTO:+0200
TZNAME:CEST
DTSTART:20240331T010000
END:DAYLIGHT
BEGIN:STANDARD
TZOFFSETFROM:+0200
TZOFFSETTO:+0100
TZNAME:CET
DTSTART:20241027T010000
END:STANDARD
BEGIN:DAYLIGHT
TZOFFSETFROM:+0100
TZOFFSETTO:+0200
TZNAME:CEST
DTSTART:20250330T010000
END:DAYLIGHT
BEGIN:STANDARD
TZOFFSETFROM:+0200
TZOFFSETTO:+0100
TZNAME:CET
DTSTART:20251026T010000
END:STANDARD
BEGIN:DAYLIGHT
TZOFFSETFROM:+0100
TZOFFSETTO:+0200
TZNAME:CEST
DTSTART:20260329T010000
END:DAYLIGHT
BEGIN:STANDARD
TZOFFSETFROM:+0200
TZOFFSETTO:+0100
TZNAME:CET
DTSTART:20261025T010000
END:STANDARD
END:VTIMEZONE
BEGIN:VEVENT
DTSTART;TZID=Europe/Madrid:20250914T123000
DTEND;TZID=Europe/Madrid:20250914T235900
DTSTAMP:20260422T020730
CREATED:20250831T113524Z
LAST-MODIFIED:20250912T090922Z
UID:6237-1757853000-1757894340@www.digaelkartea.org
SUMMARY:Fiestas patronales de EIDE
DESCRIPTION:
URL:https://www.digaelkartea.org/evento/fiestas-patronales-de-eide/
CATEGORIES:Evento
ATTACH;FMTTYPE=image/png:https://www.digaelkartea.org/wp-content/uploads/2025/08/Fiestas-Patronales.png
END:VEVENT
BEGIN:VEVENT
DTSTART;TZID=Europe/Madrid:20250918T093000
DTEND;TZID=Europe/Madrid:20250918T130000
DTSTAMP:20260422T020730
CREATED:20250828T091017Z
LAST-MODIFIED:20250912T090917Z
UID:6195-1758187800-1758200400@www.digaelkartea.org
SUMMARY:Creativity is Female Workshop de Raquel Meyers
DESCRIPTION:Obsolescencia como resistencia. Taller de Teletexto\n\nEl teletexto es una tecnología obsoleta que sigue funcionando en la Unión Europa como servicio de información y de interacción para acceder a sus contenidos. Una tecnología pre internet cuyas limitaciones se convierten en posibilidades ya que utiliza hardware y software libre para su producción y programación. \n\n\nEl uso de tecnologías ‘obsoletas’ o antiguas hace que tengamos que posicionarnos en medio de una encrucijada tecnológica. Raquel Meyers propone la generación de un teletexto autónomo y funcional de forma colectiva. \nEste taller de mecanografía expandida [KYBDslöjd] es un método en modo texto [text-mode] que consiste en la acción de mecanografiar gráficos y animaciones usando solamente caracteres de texto. KYBDslöjd usa tecnologías como el Teletexto\, PETSCII (ASCII Commodore 64)\, el fax o máquinas de escribir. Donde los caracteres son usados tal cual\, sin adornos. La retícula es la base y los caracteres son las instrucciones. \nKYBDslöjd establece un diálogo con la tecnología\, donde lo obsoleto o limitado desaparece para convertirse en posibilidades. Las personas participantes del taller aprenderán nuevas técnicas mediante el uso exclusivo de caracteres de texto mediante Teletexto. \nLas personas participantes realizarán\, al menos\, un autorretrato y una o dos páginas de contenido en teletexto para construir el sistema de teletexto. Los resultados del taller serán mostrados en una versión digital online. \n  \n* Se deberán tener conocimientos mínimos de editores gráficos tipo Photoshop o Gimp.
URL:https://www.digaelkartea.org/evento/creativity-is-female-workshop-de-raquel-meyers/
LOCATION:BIC Araba – Parque Tecnológico de Álava\, Albert Einstein kalea\, 15\, Vitoria-Gasteiz\, Araba\, 01510\, Spain
CATEGORIES:Workshops/Talleres
ATTACH;FMTTYPE=image/jpeg:https://www.digaelkartea.org/wp-content/uploads/2025/08/Creativity-is-female.jpg
ORGANIZER;CN="Araba Enpresa Digitala":MAILTO:enpresadigitala@spri.eus
END:VEVENT
BEGIN:VEVENT
DTSTART;TZID=Europe/Madrid:20250925T093000
DTEND;TZID=Europe/Madrid:20250925T133000
DTSTAMP:20260422T020730
CREATED:20250828T094630Z
LAST-MODIFIED:20250923T002819Z
UID:6213-1758792600-1758807000@www.digaelkartea.org
SUMMARY:/Basquerville→Workshop/ Paula de Álvaro. Design Office Fun
DESCRIPTION:Workshop enmarcado dentro del Festival Basquerville. \nIMPARTIDO POR – Paula de Álvaro y Pol Solà Barragán\nLUGAR – BIC Araba. Parque Tecnológico de Álava\nIDIOMA – Castellano\nPLAZAS– 14\nDURACIÓN – 4 HORAS\nPRECIO – 30€ \nDesign Office Fun\nArchivo gráfico conceptual colaborativo\, Basquerville Festibala. Por Design Office Fun©. Objetivo del juego: diseñar conceptos y desarrollar soluciones visuales mediante pictogramas y símbolos. Crear nuevas formas de expresión de ideas complejas partiendo de las formas más simples y efectivas de transmitir una idea o mensaje. Pictogramas extraídos del libro «Pictogram Design» de Yukio Ota. \n\n\nPaula de Álvaro. Diseñadora gráfica\, directora de arte y exploradora visual. Desarrolla su perspectiva del diseño desde la reflexión\, la crítica\, la ficción y las prácticas especulativas: «Veo el diseño como una herramienta para expresar ideas y no simplemente al servicio de un encargo o cliente». Después de trabajar y vivir en Valencia y en Madrid\, actualmente tiene su propio estudio en Barcelona donde realizan proyectos de diseño y dirección de arte\, llevando algunos clientes como: Pull & Bear\, Red Bull\, Matadero Madrid\, Canada\, Rigoberta Bandini o EACC Castellón\, entre otros…aunque siempre intenta mantener un espacio para sus proyectos personales. \n 
URL:https://www.digaelkartea.org/evento/basquerville-workshop-de-paula-de-alvaro/
LOCATION:BIC Araba – Parque Tecnológico de Álava\, Albert Einstein kalea\, 15\, Vitoria-Gasteiz\, Araba\, 01510\, Spain
CATEGORIES:Workshops/Talleres
ATTACH;FMTTYPE=image/jpeg:https://www.digaelkartea.org/wp-content/uploads/2025/08/paula_workshop.jpg
ORGANIZER;CN="Araba Enpresa Digitala":MAILTO:enpresadigitala@spri.eus
END:VEVENT
END:VCALENDAR