BEGIN:VCALENDAR
VERSION:2.0
PRODID:-//Diga Elkartea - ECPv6.15.13.1//NONSGML v1.0//EN
CALSCALE:GREGORIAN
METHOD:PUBLISH
X-WR-CALNAME:Diga Elkartea
X-ORIGINAL-URL:https://www.digaelkartea.org
X-WR-CALDESC:Eventos para Diga Elkartea
REFRESH-INTERVAL;VALUE=DURATION:PT1H
X-Robots-Tag:noindex
X-PUBLISHED-TTL:PT1H
BEGIN:VTIMEZONE
TZID:Europe/Madrid
BEGIN:DAYLIGHT
TZOFFSETFROM:+0100
TZOFFSETTO:+0200
TZNAME:CEST
DTSTART:20240331T010000
END:DAYLIGHT
BEGIN:STANDARD
TZOFFSETFROM:+0200
TZOFFSETTO:+0100
TZNAME:CET
DTSTART:20241027T010000
END:STANDARD
BEGIN:DAYLIGHT
TZOFFSETFROM:+0100
TZOFFSETTO:+0200
TZNAME:CEST
DTSTART:20250330T010000
END:DAYLIGHT
BEGIN:STANDARD
TZOFFSETFROM:+0200
TZOFFSETTO:+0100
TZNAME:CET
DTSTART:20251026T010000
END:STANDARD
BEGIN:DAYLIGHT
TZOFFSETFROM:+0100
TZOFFSETTO:+0200
TZNAME:CEST
DTSTART:20260329T010000
END:DAYLIGHT
BEGIN:STANDARD
TZOFFSETFROM:+0200
TZOFFSETTO:+0100
TZNAME:CET
DTSTART:20261025T010000
END:STANDARD
END:VTIMEZONE
BEGIN:VEVENT
DTSTART;TZID=Europe/Madrid:20251113T093000
DTEND;TZID=Europe/Madrid:20251113T140000
DTSTAMP:20260421T225135
CREATED:20251018T104950Z
LAST-MODIFIED:20251018T120721Z
UID:6544-1763026200-1763042400@www.digaelkartea.org
SUMMARY:WORKSHOP→ Handicap #1. Prompting sostenible. By María Sahuquillo
DESCRIPTION:Datos\, trucos y consejos para sobrellevar la incoherencia de aprovechar la IA sin morir de eco-ansiedad.\nSe trata del último taller de este ciclo anual de talleres gratuitos impulsados por Spri Araba Enpresa Digitala y comisariados por Creativity Is Female y DIGA. \nPara este workshop contaremos con María Sahuquillo\, directora creativa en The Cocktail y creadora de DIVA\, un agente entrenado para buscar referencias creativas y ayudar en el proceso de creación. Aprenderemos a hacer nuestros prompts más eficientes y reducir así nuestro impacto ambiental y\, de paso\, nuestra frustración. \nTocaremos desde los básicos del prompting hasta crear y entrenar a nuestro propio agente\, todo ello buscando reducir nuestro impacto minimizando las interacciones. \n  \n\nObjetivos\n\nEntender cómo funcionan estas herramientas y conocer el impacto medioambiental que ocultan. Aprender a promptear desde la conciencia y dejar de chatear con la frustración.\nEficientar los procesos creativos para reducir el tiempo dedicado y nuestra huella.\nAprender a generar un agente útil y necesario para mi proceso de trabajo personal.\n\n\n\nA quién va dirigido\nA todos los perfiles creativos que quieran aprender a utilizar IA generativa de forma más eficiente y sostenible \n  \nPrograma\n\nIntroducción a ChatGPT y LLM\nCómo hablar prompt\n\nFundamentos básicos\nModelos y estructuras de prompting\nPrompt adaptado por LLM\n\n\nHandicap #1\, prompting sostenible\nPráctica: mejora tus propios prompts\nIntroducción a los agentes\nCómo entrenar a mi agente\nPráctica: primeros pasos para crear tu propio agente (esta parte se impartirá con la versión Plus de ChatGPT\, pero se podrá seguir con la gratuita para aquellas personas que no dispongan de dicha versión.)\nPreguntas y debate\n\n  \nEste workshop es parte del ciclo Creativity is Female Workshops\, un espacio para visibilizar\, conectar y potenciar el talento de las mujeres en la industria creativa. \n\n 
URL:https://www.digaelkartea.org/evento/workshop-handicap-1-prompting-sostenible-by-maria-sahuquillo/
LOCATION:BIC Araba – Parque Tecnológico de Álava\, Albert Einstein kalea\, 15\, Vitoria-Gasteiz\, Araba\, 01510\, Spain
CATEGORIES:Workshops/Talleres
ATTACH;FMTTYPE=image/jpeg:https://www.digaelkartea.org/wp-content/uploads/2025/10/taller-handicap-1-maria-sahuquillo.jpg
ORGANIZER;CN="DIGA Elkartea":MAILTO:komunika@digaelkartea.org
END:VEVENT
END:VCALENDAR