BEGIN:VCALENDAR
VERSION:2.0
PRODID:-//Diga Elkartea - ECPv6.15.13.1//NONSGML v1.0//EN
CALSCALE:GREGORIAN
METHOD:PUBLISH
X-WR-CALNAME:Diga Elkartea
X-ORIGINAL-URL:https://www.digaelkartea.org
X-WR-CALDESC:Eventos para Diga Elkartea
REFRESH-INTERVAL;VALUE=DURATION:PT1H
X-Robots-Tag:noindex
X-PUBLISHED-TTL:PT1H
BEGIN:VTIMEZONE
TZID:Europe/Madrid
BEGIN:DAYLIGHT
TZOFFSETFROM:+0100
TZOFFSETTO:+0200
TZNAME:CEST
DTSTART:20250330T010000
END:DAYLIGHT
BEGIN:STANDARD
TZOFFSETFROM:+0200
TZOFFSETTO:+0100
TZNAME:CET
DTSTART:20251026T010000
END:STANDARD
BEGIN:DAYLIGHT
TZOFFSETFROM:+0100
TZOFFSETTO:+0200
TZNAME:CEST
DTSTART:20260329T010000
END:DAYLIGHT
BEGIN:STANDARD
TZOFFSETFROM:+0200
TZOFFSETTO:+0100
TZNAME:CET
DTSTART:20261025T010000
END:STANDARD
BEGIN:DAYLIGHT
TZOFFSETFROM:+0100
TZOFFSETTO:+0200
TZNAME:CEST
DTSTART:20270328T010000
END:DAYLIGHT
BEGIN:STANDARD
TZOFFSETFROM:+0200
TZOFFSETTO:+0100
TZNAME:CET
DTSTART:20271031T010000
END:STANDARD
END:VTIMEZONE
BEGIN:VEVENT
DTSTART;VALUE=DATE:20260507
DTEND;VALUE=DATE:20260509
DTSTAMP:20260421T175931
CREATED:20260411T155724Z
LAST-MODIFIED:20260411T155724Z
UID:8206-1778112000-1778284799@www.digaelkartea.org
SUMMARY:Aperitivo: Spanish Design in Conversation - WDC Frankfurt RheinMain 2026
DESCRIPTION:El Ministerio de Cultura\, la Fundació del Disseny de la Comunitat Valenciana y la Red Española de Asociaciones de Diseño (READ) presentan «Aperitivo: Spanish Design in Conversation»\, una iniciativa que tendrá lugar los días 7 y 8 de mayo en World Design Capital Frankfurt RheinMain 2026. \nVer noticia completa en la web de READ. \nAccede aquí a más info sobre la World Design Capital Frankfurt RheinMain 2026.
URL:https://www.digaelkartea.org/evento/aperitivo-spanish-design-in-conversation-wdc-frankfurt-rheinmain-2026/
ATTACH;FMTTYPE=image/jpeg:https://www.digaelkartea.org/wp-content/uploads/2026/04/cartel-aperitivo.jpg
END:VEVENT
BEGIN:VEVENT
DTSTART;VALUE=DATE:20260508
DTEND;VALUE=DATE:20260510
DTSTAMP:20260421T175931
CREATED:20260401T072551Z
LAST-MODIFIED:20260401T072551Z
UID:7904-1778198400-1778371199@www.digaelkartea.org
SUMMARY:Brandays Madrid 2026 (Blanc!)
DESCRIPTION:Brandays Madrid 2026 (Blanc!)\nBrandays! Madrid vuelve los días 8 y 9 de mayo de 2026 como la extensión del universo Blanc! centrada específicamente en branding y estrategia de marca. \nEl evento se plantea como un espacio dirigido a profesionales que trabajan en identidad\, comunicación y diseño estratégico\, poniendo el foco en el pensamiento crítico y en los procesos detrás de la construcción de marca. Frente a dinámicas más inmediatas o superficiales\, Brandays reivindica el valor de la pausa\, la reflexión y el trabajo con intención dentro de la práctica creativa. \nDurante dos jornadas\, el festival propone un programa de conferencias\, workshops y masterclasses en torno al branding\, la dirección de arte\, el storytelling o el diseño digital\, generando un entorno de aprendizaje y conexión entre profesionales del sector. \nPrograma y ponentes\nEl programa reúne a profesionales y estudios vinculados al branding y la estrategia de marca\, abordando la disciplina desde distintas perspectivas. \nEntre los participantes destacan:Natalia Cazcarra – HER\, Belén Torregrosa\, Coko Gabriel (Not Found™)\, Mechi Ginzo. NotReal\, Tavo Studio\, Supperstudio\, Interactius\, Matias Gonzalez. Leidox\, Mendesaltaren\, Comuniza\, Fernando Beltrán\, Berta Mateos Romero\, Francesco Maria Furno\, Juan Francisco (Jonás) Carró\, Mariana Hernandez Delfino\, Carla González + Mentes Utópicas\, Alejandro Masferrer. \n  \nFechas: 8 y 9 de mayo de 2026Lugar: La Nave\, Madrid
URL:https://www.digaelkartea.org/evento/brandays-madrid-2026-blanc/
LOCATION:La Nave\, C. Cifuentes\, 5\,\, Madrid\, 28021\, Spain
CATEGORIES:Festivales
ATTACH;FMTTYPE=image/jpeg:https://www.digaelkartea.org/wp-content/uploads/2026/04/Brandays_2026-scaled.jpg
END:VEVENT
BEGIN:VEVENT
DTSTART;VALUE=DATE:20260515
DTEND;VALUE=DATE:20260517
DTSTAMP:20260421T175931
CREATED:20260326T180034Z
LAST-MODIFIED:20260406T175542Z
UID:7107-1778803200-1778975999@www.digaelkartea.org
SUMMARY:Serifalaris 2026
DESCRIPTION:La duodécima edición del festival de diseño y cultura visual Serifalaris se celebrará los días 15 y 16 de mayo de 2026 bajo el título ‘El Mambo’. Como es habitual\, el evento tendrá lugar en el centro de cultura Muxikebarri\, en Getxo.Este mítico festival de diseño gráfico y cultura visual se celebra en Getxo (Bizkaia) desde 2012\, y está organizado por los estudios Maria Goñi y Freskue. \nEs un punto de encuentro anual que reúne a profesionales del sector para compartir conocimientos\, ofrecer talleres y conferencias\, enfocándose en la creatividad y la comunicación.Combina profesionalismo con un ambiente cercano\, incluyendo momentos de networking como cafés y charlas.Como dice el equipo de Serifalaris:\n«Creamos experiencias\, diseñamos formaciones en torno al diseño y la creatividad y cada dos años organizamos el festival Serifalaris en Getxo. Nuestro empeño es idear propuestas amables\, cómodas y rigurosas a la vez. Lugares donde da gusto estar\, tanto para quien sube al escenario como para quien se sienta en la última fila.» \nYa tenéis las entradas disponibles a través de su sitio oficial y Entradium.
URL:https://www.digaelkartea.org/evento/serifalaris/
LOCATION:Muxikebarri\, Avenida Basagoiti\, 77\, Algorta\, Bizkaia\, 48991\, Spain
CATEGORIES:Festivales
ATTACH;FMTTYPE=image/jpeg:https://www.digaelkartea.org/wp-content/uploads/2026/02/Serifalaris_El-Mambo.jpg
END:VEVENT
END:VCALENDAR